BEGIN:VCALENDAR
VERSION:2.0
PRODID:-//FAN-PROJEKT BIELEFELD - ECPv4.4.5//NONSGML v1.0//EN
CALSCALE:GREGORIAN
METHOD:PUBLISH
X-WR-CALNAME:FAN-PROJEKT BIELEFELD
X-ORIGINAL-URL:https://fanprojektbielefeld.de
X-WR-CALDESC:Events for FAN-PROJEKT BIELEFELD
BEGIN:VEVENT
DTSTART;TZID=Europe/Berlin:20190404T180000
DTEND;TZID=Europe/Berlin:20190404T193000
DTSTAMP:20260425T031030
CREATED:20190404T084118Z
LAST-MODIFIED:20190404T084119Z
UID:2513-1554400800-1554406200@fanprojektbielefeld.de
SUMMARY:Homo- und Trans*feindlichkeit im Sport\, Vortrag und Diskussion
DESCRIPTION:
URL:https://fanprojektbielefeld.de/event/homo-und-transfeindlichkeit-im-sport-vortrag-und-diskussion/
END:VEVENT
END:VCALENDAR